BEGIN:VCALENDAR
VERSION:2.0
PRODID:-//Oscar Castro Personal Trainer - ECPv5.16.1.1//NONSGML v1.0//EN
CALSCALE:GREGORIAN
METHOD:PUBLISH
X-WR-CALNAME:Oscar Castro Personal Trainer
X-ORIGINAL-URL:https://oscaronlinecoach.com
X-WR-CALDESC:Events for Oscar Castro Personal Trainer
REFRESH-INTERVAL;VALUE=DURATION:PT1H
X-Robots-Tag:noindex
X-PUBLISHED-TTL:PT1H
BEGIN:VTIMEZONE
TZID:UTC
BEGIN:STANDARD
TZOFFSETFROM:+0000
TZOFFSETTO:+0000
TZNAME:UTC
DTSTART:20230101T000000
END:STANDARD
END:VTIMEZONE
BEGIN:VEVENT
DTSTART;VALUE=DATE:20230314
DTEND;VALUE=DATE:20230325
DTSTAMP:20260422T090434
CREATED:20160914T133353Z
LAST-MODIFIED:20220113T141738Z
UID:385-1678752000-1679702399@oscaronlinecoach.com
SUMMARY:Nutrition & Healthy Habits
DESCRIPTION:Etiam vitae leo et diam pellentesque porta. Sed eleifend ultricies risus\, vel rutrum erat commodo ut. Praesent finibus congue euismod. Nullam scelerisque massa vel augue placerat\, a tempor sem egestas. Curabitur placerat finibus lacus. Quisque at vehicula magna\, quis fringilla sapien. Ut interdum dictum ultricies. Aliquam facilisis purus non dui scelerisque\, bibendum vestibulum risus fermentum. Nam eget efficitur felis. Sed sollicitudin justo ut libero viverra\, sed efficitur erat finibus. Mauris nunc neque\, elementum id dignissim ut\, posuere sit amet dolor. \nVivamus posuere tellus ac fringilla maximus. Maecenas ut diam nibh. Suspendisse venenatis et dolor sit amet malesuada. Cras a nisl in purus vestibulum facilisis. Aenean blandit\, lectus in dapibus interdum\, magna mauris fermentum risus\, nec iaculis ex quam ultricies tellus. Sed nec convallis ex\, nec tristique nisi. Aenean semper tempor vehicula. Duis id mi tristique\, pulvinar neque at\, lobortis tortor.
URL:https://oscaronlinecoach.com/event/nutrition-healthy-habits/
LOCATION:SW Gym\, 123 New Lenox\, Chicago\, IL\, 60606\, United States
ATTACH;FMTTYPE=image/jpeg:https://oscaronlinecoach.com/wp-content/uploads/2016/09/post-18.jpg
END:VEVENT
END:VCALENDAR